BEGIN:VCALENDAR
VERSION:2.0
PRODID:icalendar-ruby
CALSCALE:GREGORIAN
METHOD:PUBLISH
BEGIN:VEVENT
DTSTAMP:20260426T000724Z
UID:30-622001@rockchurchwy.com
DTSTART:20261106T010000Z
DTEND:20261106T030000Z
CLASS:PUBLIC
CREATED:20260425T163026
DESCRIPTION:Check out the video below to learn more about Celebrate Recover
 y!
LAST-MODIFIED:20260425T163026
LOCATION:The Rock Church
SUMMARY:Celebrate Recovery 
URL;VALUE=URI:https://www.rockchurchwy.com/events/celebrate-recovery/2026-1
 1-05
ATTACH;FILENAME=CR-image.jpg;FMTTYPE=image/jpeg:https://dq5pwpg1q8ru0.cloud
 front.net/2024/01/23/20/02/03/a74b6b0b-2618-4608-a3e7-e50eee7e6fe2/CR-imag
 e.jpg
END:VEVENT
END:VCALENDAR
